BEGIN:VCALENDAR
VERSION:2.0
PRODID:-//SportPlan//Event Calendar//EN
CALSCALE:GREGORIAN
BEGIN:VEVENT
UID:86df2e05-dbcb-4b11-80f8-9f72d7324a58@sportplan.local
DTSTAMP:20260420T222611Z
DTSTART;VALUE=DATE:20260418
DTEND;VALUE=DATE:20260419
SUMMARY:Fossavatnsgangan 50 km 2026
DESCRIPTION:Fossavatnsgangan 50 km is the official 50 km classic amateur cross-country ski race of Fossavatnsgangan in Ísafjörður\, Iceland\, on 18 April 2026. The organizer presents it as the main long-distance public race from Seljalandsdalur\, with a mass-participation format\, backpack requirement\, aid stations\, a 1\,250 m total climb\, and the signature late ascent of Miðfellsháls before a long run back to the finish.
LOCATION:Seljalandsdalur\, Ísafjörður\, Iceland
URL:https://sportplan.vercel.app/en/events/fossavatnsgangan-50-km-2026-isafjordur-2026-04-18
END:VEVENT
END:VCALENDAR
