BEGIN:VCALENDAR
VERSION:2.0
PRODID:-//SportPlan//Event Calendar//EN
CALSCALE:GREGORIAN
BEGIN:VEVENT
UID:dc95666d-9380-4022-bcb4-993dec4ca7ab@sportplan.local
DTSTAMP:20260420T211728Z
DTSTART;VALUE=DATE:20260601
DTEND;VALUE=DATE:20260602
SUMMARY:Formentera To Run
DESCRIPTION:Formentera To Run se celebra el 1 de junio de 2026 en Pilar de la Mola\, Eivissa i Formentera\, Baleares. Es una excelente opción para quienes quieren disfrutar de un evento bien organizado en este destino. La prueba recorre 60 km. Se espera un ambiente animado y una jornada memorable tanto para corredores habituales como para debutantes.
LOCATION:Pilar de la Mola\, Eivissa i Formentera\, Baleares
URL:https://sportplan.vercel.app/en/events/formentera-to-run-pilar-de-la-mola-2026-06-01-60k
END:VEVENT
END:VCALENDAR
