BEGIN:VCALENDAR
VERSION:2.0
PRODID:-//SportPlan//Event Calendar//EN
CALSCALE:GREGORIAN
BEGIN:VEVENT
UID:df7f5206-1d4f-4a21-a866-e3c93e88dce0@sportplan.local
DTSTAMP:20260420T191659Z
DTSTART;VALUE=DATE:20260503
DTEND;VALUE=DATE:20260504
SUMMARY:First Responders Half Marathon - Edmonton
DESCRIPTION:First Responders Half Marathon - Edmonton takes place in Edmonton on May 3\, 2026\, offering participants a great chance to enjoy the atmosphere of race day in this destination. The route distance is to be confirmed. Expect an energizing event environment\, local support on site\, and a course suited to both dedicated runners and motivated newcomers.
LOCATION:Edmonton
URL:https://sportplan.vercel.app/en/events/first-responders-half-marathon-edmonton-edmonton-2026-05-03
END:VEVENT
END:VCALENDAR
