BEGIN:VCALENDAR
VERSION:2.0
PRODID:-//SportPlan//Event Calendar//EN
CALSCALE:GREGORIAN
BEGIN:VEVENT
UID:0be57381-3963-4000-abf7-e9c90eb056fd@sportplan.local
DTSTAMP:20260420T211619Z
DTSTART;VALUE=DATE:20270221
DTEND;VALUE=DATE:20270222
SUMMARY:Finlandia-hiihto Free-Style 32 km 2027
DESCRIPTION:Finlandia-hiihto is a long-running public cross-country ski weekend in Lahti. The official program page lists an open 32 km free-style race on Sunday 21 February 2027\, giving regular skiers a mid-distance skate-ski option within the official Finlandia-hiihto program.
LOCATION:Lahti\, Päijät-Häme\, Finland
URL:https://sportplan.vercel.app/en/events/finlandia-hiihto-free-style-32km-2027-lahti-2027-02-21
END:VEVENT
END:VCALENDAR
