BEGIN:VCALENDAR
VERSION:2.0
PRODID:-//SportPlan//Event Calendar//EN
CALSCALE:GREGORIAN
BEGIN:VEVENT
UID:95910f39-49f2-44ee-81bc-ecb90ca5b387@sportplan.local
DTSTAMP:20260420T211025Z
DTSTART;VALUE=DATE:20270220
DTEND;VALUE=DATE:20270221
SUMMARY:Finlandia-hiihto Classic 62 km 2027
DESCRIPTION:Finlandia-hiihto is a long-running public cross-country ski weekend in Lahti. The official program page lists the 2027 event weekend in Lahti with the main 62 km classic race on Saturday 20 February 2027\, alongside shorter open distances for regular skiers\, and Worldloppet confirms Finlandia-hiihto as an official member race.
LOCATION:Lahti\, Päijät-Häme\, Finland
URL:https://sportplan.vercel.app/en/events/finlandia-hiihto-classic-62km-2027-lahti-2027-02-20
END:VEVENT
END:VCALENDAR
