BEGIN:VCALENDAR
VERSION:2.0
PRODID:-//SportPlan//Event Calendar//EN
CALSCALE:GREGORIAN
BEGIN:VEVENT
UID:6fdef591-1657-40d9-a73d-d650ef25a388@sportplan.local
DTSTAMP:20260420T210341Z
DTSTART;VALUE=DATE:20260606
DTEND;VALUE=DATE:20260607
SUMMARY:Fără Asfalt\, Triatlon la Mare 2026
DESCRIPTION:Fără Asfalt\, Triatlon la Mare 2026 is an official amateur triathlon in 2 Mai\, Romania on 6 June 2026. The Romanian Triathlon Federation calendar lists the event under the national cross circuit and points to Fără Asfalt's official website for the race.
LOCATION:2 Mai
URL:https://sportplan.vercel.app/en/events/fara-asfalt-triatlon-la-mare-2026-2-mai-2026-06-06
END:VEVENT
END:VCALENDAR
