BEGIN:VCALENDAR
VERSION:2.0
PRODID:-//SportPlan//Event Calendar//EN
CALSCALE:GREGORIAN
BEGIN:VEVENT
UID:73575da5-22e4-43fc-8010-64765bce738e@sportplan.local
DTSTAMP:20260420T222803Z
DTSTART;VALUE=DATE:20260416
DTEND;VALUE=DATE:20260417
SUMMARY:Family Fossavatn 5 km 2026
DESCRIPTION:Family Fossavatn 5 km is the official beginner-friendly 5 km classic ski event of Fossavatnsgangan in Ísafjörður\, Iceland\, on 16 April 2026. The organizer describes it as a short public participation race near the Seljalandsdalur ski lodge\, ideal for beginners on skis and held as part of the Fossavatn festival race program.
LOCATION:Seljalandsdalur\, Ísafjörður\, Iceland
URL:https://sportplan.vercel.app/en/events/family-fossavatn-5-km-2026-isafjordur-2026-04-16
END:VEVENT
END:VCALENDAR
