BEGIN:VCALENDAR
VERSION:2.0
PRODID:-//SportPlan//Event Calendar//EN
CALSCALE:GREGORIAN
BEGIN:VEVENT
UID:6f37cd6f-3ac7-48ca-8d52-12fb0a2eba45@sportplan.local
DTSTAMP:20260420T211637Z
DTSTART;VALUE=DATE:20260801
DTEND;VALUE=DATE:20260802
SUMMARY:Famara Marató 45K - Copa de CXM de Lanzarote
DESCRIPTION:Famara Marató 45K - Copa de CXM de Lanzarote se celebrará el 1 de agosto de 2026 en Caleta de Famara\, Lanzarote\, Canarias. Es una buena opción para quienes buscan un reto bien organizado y una jornada deportiva en un entorno especial. La distancia anunciada es de 45 km\, ideal para planificar ritmo\, entrenamiento y logística con antelación.
LOCATION:Caleta de Famara\, Lanzarote\, Canarias
URL:https://sportplan.vercel.app/en/events/famara-marato-45k-copa-de-cxm-de-lanzarote-caleta-de-famara-2026-08-01-45k
END:VEVENT
END:VCALENDAR
