BEGIN:VCALENDAR
VERSION:2.0
PRODID:-//SportPlan//Event Calendar//EN
CALSCALE:GREGORIAN
BEGIN:VEVENT
UID:073b3ace-5a53-460c-b82c-e44e4c4804b3@sportplan.local
DTSTAMP:20260420T211636Z
DTSTART;VALUE=DATE:20260801
DTEND;VALUE=DATE:20260802
SUMMARY:Famara Marató 15K - Copa de CXM de Lanzarote
DESCRIPTION:Famara Marató 15K - Copa de CXM de Lanzarote se celebrará el 1 de agosto de 2026 en Caleta de Famara\, Lanzarote\, Canarias. Es una buena opción para quienes buscan un reto bien organizado y una jornada deportiva en un entorno especial. La distancia anunciada es de 15 km\, ideal para planificar ritmo\, entrenamiento y logística con antelación.
LOCATION:Caleta de Famara\, Lanzarote\, Canarias
URL:https://sportplan.vercel.app/en/events/famara-marato-15k-copa-de-cxm-de-lanzarote-caleta-de-famara-2026-08-01-15k
END:VEVENT
END:VCALENDAR
