BEGIN:VCALENDAR
VERSION:2.0
PRODID:-//SportPlan//Event Calendar//EN
CALSCALE:GREGORIAN
BEGIN:VEVENT
UID:af312e62-62fb-47c0-a2b1-d16c0c54be2f@sportplan.local
DTSTAMP:20260420T192011Z
DTSTART;VALUE=DATE:20260629
DTEND;VALUE=DATE:20260822
SUMMARY:Escuela Verano Azul Ibiza 2026 — Bloque 4 4K
DESCRIPTION:Escuela Verano Azul Ibiza 2026 — Bloque 4 4K se celebrará el 2026-06-29 en Eivissa. Es una buena opción para quienes buscan un reto bien organizado sobre una distancia de 4 km. Ideal tanto para participantes que quieren competir como para quienes prefieren disfrutar del ambiente del evento.
LOCATION:Eivissa
URL:https://sportplan.vercel.app/en/events/escuela-verano-azul-ibiza-2026-bloque-4-4k-eivissa-2026-06-29
END:VEVENT
END:VCALENDAR
