BEGIN:VCALENDAR
VERSION:2.0
PRODID:-//SportPlan//Event Calendar//EN
CALSCALE:GREGORIAN
BEGIN:VEVENT
UID:47e22a23-7b1c-473e-b381-be3778a2f94e@sportplan.local
DTSTAMP:20260420T191924Z
DTSTART;VALUE=DATE:20260629
DTEND;VALUE=DATE:20260822
SUMMARY:Escuela Verano Azul Ibiza 2026 — Bloque 2 2K
DESCRIPTION:Escuela Verano Azul Ibiza 2026 — Bloque 2 2K se celebrará el 2026-06-29 en Eivissa. Es una buena opción para quienes buscan una experiencia deportiva bien organizada en un entorno atractivo. Ideal tanto para participantes que quieren competir como para quienes prefieren disfrutar del ambiente del evento.
LOCATION:Eivissa
URL:https://sportplan.vercel.app/en/events/escuela-verano-azul-ibiza-2026-bloque-2-2k-eivissa-2026-06-29
END:VEVENT
END:VCALENDAR
