BEGIN:VCALENDAR
VERSION:2.0
PRODID:-//SportPlan//Event Calendar//EN
CALSCALE:GREGORIAN
BEGIN:VEVENT
UID:47f12137-2964-4ed8-8f67-2f47d07097a4@sportplan.local
DTSTAMP:20260420T204427Z
DTSTART;VALUE=DATE:20260614
DTEND;VALUE=DATE:20260615
SUMMARY:Entrenamiento mmB del 14 de Junio
DESCRIPTION:discovered via Eventbrite Colombia running search pages\; direct event page schema validated\; source family: event marketplace
LOCATION:Parque Nacional Enrique Olaya Herrera\, Bogotá\, Bogotá\, Colombia
URL:https://sportplan.vercel.app/en/events/entrenamiento-mmb-del-14-de-junio-2026-06-14
END:VEVENT
END:VCALENDAR
