BEGIN:VCALENDAR
VERSION:2.0
PRODID:-//SportPlan//Event Calendar//EN
CALSCALE:GREGORIAN
BEGIN:VEVENT
UID:d7a19bb5-898c-4978-a247-816d0d5747cf@sportplan.local
DTSTAMP:20260420T204603Z
DTSTART;VALUE=DATE:20260801
DTEND;VALUE=DATE:20260802
SUMMARY:Entrenamiento mmB del 1 de agosto
DESCRIPTION:discovered via Eventbrite Colombia running search pages\; direct event page schema validated\; source family: event marketplace
LOCATION:Parque Virgilio Barco\, Bogotá\, Bogotá\, Colombia
URL:https://sportplan.vercel.app/en/events/entrenamiento-mmb-del-1-de-agosto-2026-08-01
END:VEVENT
END:VCALENDAR
