BEGIN:VCALENDAR
VERSION:2.0
PRODID:-//SportPlan//Event Calendar//EN
CALSCALE:GREGORIAN
BEGIN:VEVENT
UID:e3a832cc-25f0-47b6-82fc-45f507e6598a@sportplan.local
DTSTAMP:20260420T195021Z
DTSTART;VALUE=DATE:20260601
DTEND;VALUE=DATE:20260602
SUMMARY:Entremontañas Paralelo 28 -Carrera Vertical
DESCRIPTION:Entremontañas Paralelo 28 -Carrera Vertical se celebra el 1 de junio de 2026 en Aldea de San Nicolas\, Gran Canaria\, Canarias. Es una excelente opción para quienes quieren disfrutar de un evento bien organizado en este destino. La prueba recorre 7.17 km. Se espera un ambiente animado y una jornada memorable tanto para corredores habituales como para debutantes.
LOCATION:Aldea de San Nicolas\, Gran Canaria\, Canarias
URL:https://sportplan.vercel.app/en/events/entremontanas-paralelo-28-carrera-vertical-aldea-de-san-nicolas-2026-06-01-7-17k
END:VEVENT
END:VCALENDAR
