BEGIN:VCALENDAR
VERSION:2.0
PRODID:-//SportPlan//Event Calendar//EN
CALSCALE:GREGORIAN
BEGIN:VEVENT
UID:fae439fa-bf95-494b-ba74-27875fab041b@sportplan.local
DTSTAMP:20260420T234731Z
DTSTART;VALUE=DATE:20270311
DTEND;VALUE=DATE:20270312
SUMMARY:Engadin Nachtlauf 17 km 2027
DESCRIPTION:The Engadin Nachtlauf is the evening amateur race of the Engadin marathon week. The official organizer page lists the 9th edition on 11 March 2027\, starting at 19:00 over 17 km from Sils to Pontresina\, with online registration open for participants.
LOCATION:Sils to Pontresina\, Graubünden\, Switzerland
URL:https://sportplan.vercel.app/en/events/engadin-nachtlauf-17km-2027-pontresina-2027-03-11
END:VEVENT
END:VCALENDAR
