BEGIN:VCALENDAR
VERSION:2.0
PRODID:-//SportPlan//Event Calendar//EN
CALSCALE:GREGORIAN
BEGIN:VEVENT
UID:ae660e6c-57c2-4b25-b00d-2d4c6b3f7c7c@sportplan.local
DTSTAMP:20260420T204557Z
DTSTART;VALUE=DATE:20260829
DTEND;VALUE=DATE:20260830
SUMMARY:Eiropas junioru kauss\, vecuma grupu triatlons\, sprints\, LK posms
DESCRIPTION:This race is listed on the official Latvian Triathlon Federation 2026 calendar as an age-group triathlon sprint and Latvian Cup round held on the European Junior Cup weekend. The federation tournament detail confirms the participant-facing age-group format\, the 2026-08-29 date\, and the official Latvia event-family source.
LOCATION:Rīga vai Jūrmala\, Latvia
URL:https://sportplan.vercel.app/en/events/eiropas-junioru-kauss-vecuma-grupu-triatlons-sprints-lk-posms-2026-08-29
END:VEVENT
END:VCALENDAR
