BEGIN:VCALENDAR
VERSION:2.0
PRODID:-//SportPlan//Event Calendar//EN
CALSCALE:GREGORIAN
BEGIN:VEVENT
UID:8c4d8e5f-25d2-486f-ae78-5ea22cfe5961@sportplan.local
DTSTAMP:20260420T221656Z
DTSTART;VALUE=DATE:20261010
DTEND;VALUE=DATE:20261012
SUMMARY:Edp Maratona de Lisboa
DESCRIPTION:Edp Maratona de Lisboa acontece em Lisboa no dia 10 outubro 2026. É uma ótima opção para quem procura um evento esportivo bem organizado e um ambiente inspirador. Perfeito para buscar desempenho\, encarar um novo desafio ou simplesmente aproveitar a atmosfera da prova.
LOCATION:Lisboa
URL:https://sportplan.vercel.app/en/events/edp-maratona-de-lisboa-lisboa-2026-10-10
END:VEVENT
END:VCALENDAR
