BEGIN:VCALENDAR
VERSION:2.0
PRODID:-//SportPlan//Event Calendar//EN
CALSCALE:GREGORIAN
BEGIN:VEVENT
UID:f433314f-6eab-4804-8221-752cb8219ce8@sportplan.local
DTSTAMP:20260420T204528Z
DTSTART;VALUE=DATE:20260523
DTEND;VALUE=DATE:20260524
SUMMARY:Edinburgh Marathon Festival
DESCRIPTION:discovered via web_fetch on official event site for UK/IE priority coverage
LOCATION:Edinburgh\, Scotland\, United Kingdom
URL:https://sportplan.vercel.app/en/events/edinburgh-marathon-festival-2026-05-23
END:VEVENT
END:VCALENDAR
