BEGIN:VCALENDAR
VERSION:2.0
PRODID:-//SportPlan//Event Calendar//EN
CALSCALE:GREGORIAN
BEGIN:VEVENT
UID:7b2ce08d-752c-4920-8346-94f54e78d841@sportplan.local
DTSTAMP:20260420T175552Z
DTSTART;VALUE=DATE:20260712
DTEND;VALUE=DATE:20260713
SUMMARY:Dundee Running Adventure Marathon
DESCRIPTION:
LOCATION:Dundee
URL:https://sportplan.vercel.app/en/events/dundee-running-adventure-marathon-dundee-2026-07-12
END:VEVENT
END:VCALENDAR
