BEGIN:VCALENDAR
VERSION:2.0
PRODID:-//SportPlan//Event Calendar//EN
CALSCALE:GREGORIAN
BEGIN:VEVENT
UID:88f6a30b-4be5-4193-8049-7b268c1c7e84@sportplan.local
DTSTAMP:20260420T193143Z
DTSTART;VALUE=DATE:20260425
DTEND;VALUE=DATE:20260426
SUMMARY:Due Rocche
DESCRIPTION:Due Rocche si svolge il 25 de aprile de 2026 a Cornuda. È una proposta interessante per chi cerca un evento ben organizzato in un contesto piacevole. Consulta le informazioni ufficiali dell'organizzatore per orari\, ritiro pettorali e dettagli logistici.
LOCATION:Cornuda
URL:https://sportplan.vercel.app/en/events/due-rocche-cornuda-2026-04-25
END:VEVENT
END:VCALENDAR
