BEGIN:VCALENDAR
VERSION:2.0
PRODID:-//SportPlan//Event Calendar//EN
CALSCALE:GREGORIAN
BEGIN:VEVENT
UID:f122a12c-9cb8-4cd3-b0ab-006efe02692a@sportplan.local
DTSTAMP:20260420T191936Z
DTSTART;VALUE=DATE:20261112
DTEND;VALUE=DATE:20261113
SUMMARY:Dubai T100 Triathlon 2026 – Participate / Registration
DESCRIPTION:The official T100 Dubai participate page is live for the Dubai T100 Triathlon weekend on 12 to 15 November 2026 in Dubai. It is the participant-facing amateur registration and event-information page for the official Dubai T100 amateur triathlon offering.
LOCATION:Dubai\, United Arab Emirates
URL:https://sportplan.vercel.app/en/events/dubai-t100-triathlon-2026-participate-registration-2026-11-12
END:VEVENT
END:VCALENDAR
