BEGIN:VCALENDAR
VERSION:2.0
PRODID:-//SportPlan//Event Calendar//EN
CALSCALE:GREGORIAN
BEGIN:VEVENT
UID:08f652ed-4c24-4c77-ae8b-3f86c89f5ce1@sportplan.local
DTSTAMP:20260420T191810Z
DTSTART;VALUE=DATE:20260510
DTEND;VALUE=DATE:20260511
SUMMARY:Duatlo de Vinhais
DESCRIPTION:Official Federação de Triatlo de Portugal event page for the 2026 Duatlo de Vinhais. The page explicitly includes 'Prova Aberta' and identifies the event within the northern youth calendar.
LOCATION:Vinhais\, Bragança\, Portugal
URL:https://sportplan.vercel.app/en/events/duatlo-de-vinhais-vinhais-2026-05-10
END:VEVENT
END:VCALENDAR
