BEGIN:VCALENDAR
VERSION:2.0
PRODID:-//SportPlan//Event Calendar//EN
CALSCALE:GREGORIAN
BEGIN:VEVENT
UID:ebc00672-e711-4dd8-a478-7d1a0749e9b4@sportplan.local
DTSTAMP:20260420T180424Z
DTSTART;VALUE=DATE:20260418
DTEND;VALUE=DATE:20260420
SUMMARY:Duatlo de Penafiel
DESCRIPTION:Official Federação de Triatlo de Portugal event page for the 2026 Duatlo de Penafiel. The page explicitly marks the race as Prova Aberta.
LOCATION:Penafiel\, Portugal
URL:https://sportplan.vercel.app/en/events/duatlo-de-penafiel-penafiel-2026-04-18
END:VEVENT
END:VCALENDAR
