BEGIN:VCALENDAR
VERSION:2.0
PRODID:-//SportPlan//Event Calendar//EN
CALSCALE:GREGORIAN
BEGIN:VEVENT
UID:c0588b87-38f4-4cc5-8bdd-dce1623298c3@sportplan.local
DTSTAMP:20260420T180302Z
DTSTART;VALUE=DATE:20260906
DTEND;VALUE=DATE:20260907
SUMMARY:Duathlon des Sables
DESCRIPTION:Duathlon des Sables a lieu à Arc-sur-Tille le 6 de septembre de 2026\, en réunissant les participants pour une journée sportive dans une belle ambiance. Le parcours couvre environ 21 km. L'événement promet une expérience bien rythmée\, un peloton motivé et une atmosphère locale conviviale.
LOCATION:Arc-sur-Tille
URL:https://sportplan.vercel.app/en/events/duathlon-des-sables-arc-sur-tille-2026-09-06
END:VEVENT
END:VCALENDAR
