BEGIN:VCALENDAR
VERSION:2.0
PRODID:-//SportPlan//Event Calendar//EN
CALSCALE:GREGORIAN
BEGIN:VEVENT
UID:8d6a3591-1f8c-4fa5-a646-879fd4cb2c5a@sportplan.local
DTSTAMP:20260420T192115Z
DTSTART;VALUE=DATE:20261101
DTEND;VALUE=DATE:20261102
SUMMARY:Doñana Trail Marathon Sevilla - el Rocío
DESCRIPTION:Doñana Trail Marathon Sevilla - el Rocío se celebrará el 2026-11-01 en El Rocio\, Huelva\, Andalucía. El recorrido cubre aproximadamente 75 km\, ofreciendo una cita atractiva tanto para participantes que buscan un nuevo reto como para quienes quieren disfrutar del ambiente del evento. Ideal para sumar una nueva experiencia al calendario y disfrutar de una jornada activa en un entorno especial.
LOCATION:El Rocio\, Huelva\, Andalucía
URL:https://sportplan.vercel.app/en/events/donana-trail-marathon-sevilla-el-rocio-el-rocio-2026-11-01-75k
END:VEVENT
END:VCALENDAR
