BEGIN:VCALENDAR
VERSION:2.0
PRODID:-//SportPlan//Event Calendar//EN
CALSCALE:GREGORIAN
BEGIN:VEVENT
UID:4c536e71-2616-4d25-9939-2aced458287f@sportplan.local
DTSTAMP:20260420T224517Z
DTSTART;VALUE=DATE:20260725
DTEND;VALUE=DATE:20260726
SUMMARY:Dolomites Skyrace 2026
DESCRIPTION:Dolomites Skyrace 2026 si svolgerà il 25 luglio 2026 a Canazei\, Trentino. È una proposta interessante per chi cerca una sfida ben organizzata e una giornata sportiva coinvolgente. La distanza annunciata è di 22 km\, utile per pianificare ritmo\, allenamento e logistica con anticipo.
LOCATION:Canazei\, Trentino
URL:https://sportplan.vercel.app/en/events/dolomites-skyrace-2026-canazei-2026-07-25
END:VEVENT
END:VCALENDAR
