BEGIN:VCALENDAR
VERSION:2.0
PRODID:-//SportPlan//Event Calendar//EN
CALSCALE:GREGORIAN
BEGIN:VEVENT
UID:826a7409-0e31-41c8-87a4-134d444a9e2a@sportplan.local
DTSTAMP:20260420T232747Z
DTSTART;VALUE=DATE:20270124
DTEND;VALUE=DATE:20270125
SUMMARY:Dolomitenlauf 5 km CL 2027
DESCRIPTION:Dolomitenlauf 5 km CL is the official entry-level classic-technique easy race within Austria's Dolomitenlauf weekend in Obertilliach\, East Tyrol. The official Dolomitenlauf program lists the classic Easyrace on Sunday 24 January 2027\, and the official course information presents the short public race alongside the longer ski-marathon options.
LOCATION:Obertilliach\, East Tyrol\, Austria
URL:https://sportplan.vercel.app/en/events/dolomitenlauf-5-km-cl-obertilliach-2027-01-24
END:VEVENT
END:VCALENDAR
