BEGIN:VCALENDAR
VERSION:2.0
PRODID:-//SportPlan//Event Calendar//EN
CALSCALE:GREGORIAN
BEGIN:VEVENT
UID:29767177-2f9f-46c2-a834-9dbf56fd5644@sportplan.local
DTSTAMP:20260420T232749Z
DTSTART;VALUE=DATE:20270123
DTEND;VALUE=DATE:20270124
SUMMARY:Dolomitenlauf 21 km FT 2027
DESCRIPTION:Dolomitenlauf 21 km FT is an official amateur cross-country ski race at Austria's flagship Dolomitenlauf weekend in Obertilliach\, East Tyrol. The official Dolomitenlauf program lists the free-technique 21 km race on Saturday 23 January 2027\, and the official course page describes the event's public ski-marathon format in Obertilliach with optimized 21 km\, 42 km\, and easy-race options.
LOCATION:Obertilliach\, East Tyrol\, Austria
URL:https://sportplan.vercel.app/en/events/dolomitenlauf-21-km-ft-obertilliach-2027-01-23
END:VEVENT
END:VCALENDAR
