BEGIN:VCALENDAR
VERSION:2.0
PRODID:-//SportPlan//Event Calendar//EN
CALSCALE:GREGORIAN
BEGIN:VEVENT
UID:ab4a6cfc-46a1-4fe6-97ae-e71f9edf0c4a@sportplan.local
DTSTAMP:20260420T192103Z
DTSTART;VALUE=DATE:20261114
DTEND;VALUE=DATE:20261115
SUMMARY:Deserto do Jalapão Trail 2026 (8K/13K/21K/42K)
DESCRIPTION:Discovered via direct fetch of corridasdemontanha.com.br/calendario\; Brazilian mountain trail running circuit 2026 – Deserto do Jalapão stage.
LOCATION:Mateiros\, Tocantins\, Brazil
URL:https://sportplan.vercel.app/en/events/deserto-do-jalapao-trail-2026-8k-13k-21k-42k-2026-11-14
END:VEVENT
END:VCALENDAR
