BEGIN:VCALENDAR
VERSION:2.0
PRODID:-//SportPlan//Event Calendar//EN
CALSCALE:GREGORIAN
BEGIN:VEVENT
UID:c9fa9aae-77f2-4a6f-8356-4bff92fac5bf@sportplan.local
DTSTAMP:20260420T191900Z
DTSTART;VALUE=DATE:20260627
DTEND;VALUE=DATE:20260628
SUMMARY:Desértica Olivera Belchite
DESCRIPTION:
LOCATION:Belchite\, Zaragoza\, Aragón
URL:https://sportplan.vercel.app/en/events/desertica-olivera-belchite-belchite-2026-06-27-13k
END:VEVENT
END:VCALENDAR
