BEGIN:VCALENDAR
VERSION:2.0
PRODID:-//SportPlan//Event Calendar//EN
CALSCALE:GREGORIAN
BEGIN:VEVENT
UID:3818055a-9194-41e3-af65-f56033d16462@sportplan.local
DTSTAMP:20260420T195020Z
DTSTART;VALUE=DATE:20260901
DTEND;VALUE=DATE:20260902
SUMMARY:Desafío Urbión Trail Kids
DESCRIPTION:Desafío Urbión Trail Kids se celebrará el 1 de septiembre de 2026 en Covaledas\, Soria\, Castilla y León. Es una buena cita para participantes y acompañantes que buscan un ambiente activo y bien organizado. La distancia anunciada es de 17 km.
LOCATION:Covaledas\, Soria\, Castilla y León
URL:https://sportplan.vercel.app/en/events/desafio-urbion-trail-kids-covaledas-2026-09-01
END:VEVENT
END:VCALENDAR
