BEGIN:VCALENDAR
VERSION:2.0
PRODID:-//SportPlan//Event Calendar//EN
CALSCALE:GREGORIAN
BEGIN:VEVENT
UID:547dde70-f5db-4802-9dc5-11b4a19e1925@sportplan.local
DTSTAMP:20260420T204603Z
DTSTART;VALUE=DATE:20260509
DTEND;VALUE=DATE:20260510
SUMMARY:Desafío Herrerino
DESCRIPTION:Desafío Herrerino se celebra el 9 mayo 2026 en Herrera de los Navarros\, Zaragoza\, ofreciendo una cita ideal para participantes que buscan una experiencia bien organizada y con ambiente deportivo. El evento propone un recorrido con un recorrido claramente señalizado\, pensado para disfrutar del entorno\, mantener un buen ritmo y compartir la jornada con otros asistentes.
LOCATION:Herrera de los Navarros\, Zaragoza
URL:https://sportplan.vercel.app/en/events/desaf-o-herrerino-herrera-de-los-navarros-2026-05-09
END:VEVENT
END:VCALENDAR
