BEGIN:VCALENDAR
VERSION:2.0
PRODID:-//SportPlan//Event Calendar//EN
CALSCALE:GREGORIAN
BEGIN:VEVENT
UID:ea30dbc3-88a1-4006-b3e5-faf889f6b14f@sportplan.local
DTSTAMP:20260420T230008Z
DTSTART;VALUE=DATE:20260627
DTEND;VALUE=DATE:20260628
SUMMARY:Desértica Olivera
DESCRIPTION:
LOCATION:Belchite\, Zaragoza
URL:https://sportplan.vercel.app/en/events/des-rtica-olivera-belchite-2026-06-27
END:VEVENT
END:VCALENDAR
