BEGIN:VCALENDAR
VERSION:2.0
PRODID:-//SportPlan//Event Calendar//EN
CALSCALE:GREGORIAN
BEGIN:VEVENT
UID:c6dca925-49f1-4228-be6d-7fa1c4a0f000@sportplan.local
DTSTAMP:20260420T234607Z
DTSTART;VALUE=DATE:20260913
DTEND;VALUE=DATE:20260914
SUMMARY:Derbyshire Dales Trail Run
DESCRIPTION:
LOCATION:Derbyshire Dales
URL:https://sportplan.vercel.app/en/events/derbyshire-dales-trail-run-derbyshire-dales-2026-09-13
END:VEVENT
END:VCALENDAR
