BEGIN:VCALENDAR
VERSION:2.0
PRODID:-//SportPlan//Event Calendar//EN
CALSCALE:GREGORIAN
BEGIN:VEVENT
UID:2b489a8c-65e0-4837-bff3-414deeea52e4@sportplan.local
DTSTAMP:20260420T174121Z
DTSTART;VALUE=DATE:20260530
DTEND;VALUE=DATE:20260531
SUMMARY:Denver DEKA FIT & Ultra 2026
DESCRIPTION:Denver DEKA FIT & Ultra 2026 is an official amateur hybrid-fitness event in Aurora\, Colorado on 30 May 2026. The official Spartan DEKA page presents a public all-levels DEKA weekend experience anchored at Gaylord Rockies Resort & Convention Center\, with DEKA FIT\, Ultra\, age-group\, elite\, ruck\, and team race options on the same official event page.
LOCATION:Aurora\, Colorado
URL:https://sportplan.vercel.app/en/events/denver-deka-fit-ultra-2026-aurora-2026-05-30
END:VEVENT
END:VCALENDAR
