BEGIN:VCALENDAR
VERSION:2.0
PRODID:-//SportPlan//Event Calendar//EN
CALSCALE:GREGORIAN
BEGIN:VEVENT
UID:d0d42a35-2b9a-4d6b-84d9-82c5f064ed32@sportplan.local
DTSTAMP:20260420T191302Z
DTSTART;VALUE=DATE:20260502
DTEND;VALUE=DATE:20260504
SUMMARY:Demi-Marathon De Lévis
DESCRIPTION:
LOCATION:Lévis
URL:https://sportplan.vercel.app/en/events/demi-marathon-de-levis-levis-2026-05-02
END:VEVENT
END:VCALENDAR
