BEGIN:VCALENDAR
VERSION:2.0
PRODID:-//SportPlan//Event Calendar//EN
CALSCALE:GREGORIAN
BEGIN:VEVENT
UID:d27ce42b-14ca-4eaa-93c5-323c8ff1e011@sportplan.local
DTSTAMP:20260420T204223Z
DTSTART;VALUE=DATE:20260627
DTEND;VALUE=DATE:20260628
SUMMARY:DECATHLON Night Run Budapest
DESCRIPTION:Official site for the 32nd DECATHLON Futóest in Budapest on 27 June 2026 at Hősök tere\; this is the official BSI event page corresponding to the Budapest night run branding.
LOCATION:Budapest\, Hungary
URL:https://sportplan.vercel.app/en/events/decathlon-night-run-budapest-2026-06-27
END:VEVENT
END:VCALENDAR
