BEGIN:VCALENDAR
VERSION:2.0
PRODID:-//SportPlan//Event Calendar//EN
CALSCALE:GREGORIAN
BEGIN:VEVENT
UID:6452b7a7-0f34-4632-985d-0b6c538e030b@sportplan.local
DTSTAMP:20260420T193452Z
DTSTART;VALUE=DATE:20260501
DTEND;VALUE=DATE:20260502
SUMMARY:Daugavas kauss 2026
DESCRIPTION:Daugavas kauss 2026 is an official amateur participation relay orienteering event in Robežkrogs\, Ogres novads\, Latvia on 1 May 2026. The official Latvian Orienteering Federation event page lists the venue\, organizer\, three-leg relay format\, and public age-group competition structure.
LOCATION:Robežkrogs\, Birzgales pagasts\, Ogres novads\, Latvia
URL:https://sportplan.vercel.app/en/events/daugavas-kauss-2026-robezkrogs-2026-05-01
END:VEVENT
END:VCALENDAR
