BEGIN:VCALENDAR
VERSION:2.0
PRODID:-//SportPlan//Event Calendar//EN
CALSCALE:GREGORIAN
BEGIN:VEVENT
UID:9a5553fe-9caf-4074-a2b2-3843b9816bf5@sportplan.local
DTSTAMP:20260420T193636Z
DTSTART;VALUE=DATE:20260503
DTEND;VALUE=DATE:20260504
SUMMARY:Darby River Run - VIC
DESCRIPTION:Darby River Run - VIC takes place in Wilsons Promontory National Park on May 3\, 2026\, offering participants a great chance to enjoy the atmosphere of race day in this destination. The route distance is to be confirmed. Expect an energizing event environment\, local support on site\, and a course suited to both dedicated runners and motivated newcomers.
LOCATION:Wilsons Promontory National Park
URL:https://sportplan.vercel.app/en/events/darby-river-run-vic-wilsons-promontory-national-park-2026-05-03
END:VEVENT
END:VCALENDAR
