BEGIN:VCALENDAR
VERSION:2.0
PRODID:-//SportPlan//Event Calendar//EN
CALSCALE:GREGORIAN
BEGIN:VEVENT
UID:2a3514a4-e726-4d59-8141-910270a0e12e@sportplan.local
DTSTAMP:20260420T234450Z
DTSTART;VALUE=DATE:20261010
DTEND;VALUE=DATE:20261011
SUMMARY:Dairy Farmers 5km Run
DESCRIPTION:Official race page
LOCATION:Melbourne\, Australia
URL:https://sportplan.vercel.app/en/events/dairy-farmers-5km-run-2026-10-10
END:VEVENT
END:VCALENDAR
