BEGIN:VCALENDAR
VERSION:2.0
PRODID:-//SportPlan//Event Calendar//EN
CALSCALE:GREGORIAN
BEGIN:VEVENT
UID:e866bdb9-a64b-40a5-944c-2515adc0fc87@sportplan.local
DTSTAMP:20260420T193559Z
DTSTART;VALUE=DATE:20270402
DTEND;VALUE=DATE:20270405
SUMMARY:Cyprus Gran Fondo 2027
DESCRIPTION:Cyprus Gran Fondo 2027 is a three-day amateur participation road cycling event in Paphos\, Cyprus\, scheduled for 2 to 4 April 2027. The official organizer page presents it as a UCI World Series qualifier with coastal and mountain routes and positions Paphos as the host base for riders and accompanying travel.
LOCATION:Paphos
URL:https://sportplan.vercel.app/en/events/cyprus-gran-fondo-2027-paphos-2027-04-02
END:VEVENT
END:VCALENDAR
