BEGIN:VCALENDAR
VERSION:2.0
PRODID:-//SportPlan//Event Calendar//EN
CALSCALE:GREGORIAN
BEGIN:VEVENT
UID:f4b1d757-dc2c-4e97-8f14-ed2379fd5662@sportplan.local
DTSTAMP:20260420T204601Z
DTSTART;VALUE=DATE:20260530
DTEND;VALUE=DATE:20260601
SUMMARY:CXM Marathon Alcaudete
DESCRIPTION:CXM Marathon Alcaudete es una prueba que se celebrará el 2026-05-30 en Alcaudete\, Jaén. Es una buena opción para quienes buscan una jornada activa y bien organizada. Ideal tanto para participantes habituales como para quienes quieren sumar una nueva experiencia al calendario.
LOCATION:Alcaudete\, Jaén
URL:https://sportplan.vercel.app/en/events/cxm-marathon-alcaudete-alcaudete-2026-05-30
END:VEVENT
END:VCALENDAR
