BEGIN:VCALENDAR
VERSION:2.0
PRODID:-//SportPlan//Event Calendar//EN
CALSCALE:GREGORIAN
BEGIN:VEVENT
UID:3c45da6b-73dc-4881-82ac-2370cac75e5d@sportplan.local
DTSTAMP:20260420T175649Z
DTSTART;VALUE=DATE:20260927
DTEND;VALUE=DATE:20260928
SUMMARY:Cross Duathlon de Chenove
DESCRIPTION:Cross Duathlon de Chenove aura lieu le 27 septembre 2026 à Chenôve\, avec une ambiance sportive pensée pour les participants en quête d'un défi bien organisé. Avec un parcours de 11 km\, l'événement permet de se fixer un bel objectif\, de profiter du cadre et de vivre une expérience dynamique du départ à l'arrivée.
LOCATION:Chenôve
URL:https://sportplan.vercel.app/en/events/cross-duathlon-de-chenove-chenove-2026-09-27
END:VEVENT
END:VCALENDAR
