BEGIN:VCALENDAR
VERSION:2.0
PRODID:-//SportPlan//Event Calendar//EN
CALSCALE:GREGORIAN
BEGIN:VEVENT
UID:b2359109-27ca-4da4-be1e-04ee2c903026@sportplan.local
DTSTAMP:20260420T175557Z
DTSTART;VALUE=DATE:20261004
DTEND;VALUE=DATE:20261005
SUMMARY:Cross Duathlon Brumath
DESCRIPTION:Cross Duathlon Brumath a lieu à Brumath le 4 octobre 2026\, offrant aux coureurs une belle occasion de profiter d’une ambiance sportive soignée dans FR. La distance annoncée est de 11 km\, un format idéal pour les coureurs en quête d’un défi clair et d’une belle journée de course. L’événement s’adresse aussi bien aux athlètes réguliers qu’aux participants motivés en quête d’une expérience stimulante.
LOCATION:Brumath
URL:https://sportplan.vercel.app/en/events/cross-duathlon-brumath-brumath-2026-10-04
END:VEVENT
END:VCALENDAR
