BEGIN:VCALENDAR
VERSION:2.0
PRODID:-//SportPlan//Event Calendar//EN
CALSCALE:GREGORIAN
BEGIN:VEVENT
UID:6d459742-98de-4212-9032-e234794994ee@sportplan.local
DTSTAMP:20260420T191933Z
DTSTART;VALUE=DATE:20260530
DTEND;VALUE=DATE:20260531
SUMMARY:Cross de Santiso 2026 — Pitufos (de 0 a 4 Anos)
DESCRIPTION:Cross de Santiso 2026 — Pitufos (de 0 a 4 Anos) se celebrará el 30 de mayo de 2026 en Santiso. Es una cita ideal para quienes buscan disfrutar del ambiente del evento y vivir una experiencia deportiva bien organizada. Perfecto tanto para participantes habituales como para quienes quieren sumar un nuevo reto al calendario.
LOCATION:Santiso
URL:https://sportplan.vercel.app/en/events/cross-de-santiso-2026-pitufos-de-0-a-4-anos-santiso-2026-05-30
END:VEVENT
END:VCALENDAR
