BEGIN:VCALENDAR
VERSION:2.0
PRODID:-//SportPlan//Event Calendar//EN
CALSCALE:GREGORIAN
BEGIN:VEVENT
UID:5b2a3f62-e3fc-4475-a3c3-b745bd934373@sportplan.local
DTSTAMP:20260420T192017Z
DTSTART;VALUE=DATE:20260530
DTEND;VALUE=DATE:20260531
SUMMARY:Cross de Santiso 2026 — Adultos
DESCRIPTION:Cross de Santiso 2026 — Adultos es una prueba que se celebrará el 2026-05-30 en Santiso. Es una buena opción para quienes buscan una jornada activa y bien organizada. Ideal tanto para participantes habituales como para quienes quieren sumar una nueva experiencia al calendario.
LOCATION:Santiso
URL:https://sportplan.vercel.app/en/events/cross-de-santiso-2026-adultos-santiso-2026-05-30
END:VEVENT
END:VCALENDAR
