BEGIN:VCALENDAR
VERSION:2.0
PRODID:-//SportPlan//Event Calendar//EN
CALSCALE:GREGORIAN
BEGIN:VEVENT
UID:7c488bb3-fdef-4a01-b0eb-e7e08971d121@sportplan.local
DTSTAMP:20260420T175558Z
DTSTART;VALUE=DATE:20260520
DTEND;VALUE=DATE:20260525
SUMMARY:Creapure HYROX Lyon 2026
DESCRIPTION:Creapure HYROX Lyon 2026 is a five-day mass-participation hybrid fitness race in the Lyon area. The official event page confirms public race dates and a venue location in Chassieu\, supporting amateur participation discovery in France.
LOCATION:Chassieu
URL:https://sportplan.vercel.app/en/events/creapure-hyrox-lyon-2026-2026-05-20
END:VEVENT
END:VCALENDAR
