BEGIN:VCALENDAR
VERSION:2.0
PRODID:-//SportPlan//Event Calendar//EN
CALSCALE:GREGORIAN
BEGIN:VEVENT
UID:f4e17c38-d550-49c0-ad28-9bc1485ffe06@sportplan.local
DTSTAMP:20260420T180639Z
DTSTART;VALUE=DATE:20260510
DTEND;VALUE=DATE:20260511
SUMMARY:Course Nature Bouguenais - 23ème Edition Running et Marche Nordique — Marche Nordique 11 km 11K
DESCRIPTION:Course Nature Bouguenais - 23ème Edition Running et Marche Nordique — Marche Nordique 11 km 11K a lieu à Bouguenais le 10 mai 2026\, dans une ambiance sportive ouverte aux coureurs de tous niveaux. Que vous visiez un record personnel ou que vous souhaitiez simplement profiter du parcours de 11 km\, l'événement promet une belle journée de course à Bouguenais.
LOCATION:Bouguenais
URL:https://sportplan.vercel.app/en/events/course-nature-bouguenais-23eme-edition-running-et-marche-nordique-marche-nordique-11-km-11k-bouguenais-2026-05-10
END:VEVENT
END:VCALENDAR
