BEGIN:VCALENDAR
VERSION:2.0
PRODID:-//SportPlan//Event Calendar//EN
CALSCALE:GREGORIAN
BEGIN:VEVENT
UID:b3637700-97c5-4127-84de-0eeffc0362cd@sportplan.local
DTSTAMP:20260420T181105Z
DTSTART;VALUE=DATE:20260510
DTEND;VALUE=DATE:20260511
SUMMARY:Course Nature Bouguenais - 23ème Edition Running et Marche Nordique — Course Nature 20 km 20K
DESCRIPTION:Course Nature Bouguenais - 23ème Edition Running et Marche Nordique — Course Nature 20 km 20K a lieu à Bouguenais le 10 mai 2026\, dans une ambiance sportive ouverte aux coureurs de tous niveaux. Que vous visiez un record personnel ou que vous souhaitiez simplement profiter du parcours de 20 km\, l'événement promet une belle journée de course à Bouguenais.
LOCATION:Bouguenais
URL:https://sportplan.vercel.app/en/events/course-nature-bouguenais-23eme-edition-running-et-marche-nordique-course-nature-20-km-20k-bouguenais-2026-05-10
END:VEVENT
END:VCALENDAR
