BEGIN:VCALENDAR
VERSION:2.0
PRODID:-//SportPlan//Event Calendar//EN
CALSCALE:GREGORIAN
BEGIN:VEVENT
UID:5652e917-5998-46cb-9f15-7dde832bbecd@sportplan.local
DTSTAMP:20260420T204643Z
DTSTART;VALUE=DATE:20260517
DTEND;VALUE=DATE:20260518
SUMMARY:Copenhagen Marathon 2026
DESCRIPTION:Copenhagen Marathon 2026 afholdes den 17 maj 2026 i Copenhagen\, Capital Region og samler løbere til en stærk dag med sport og god stemning. Med en distance på 42\,2 km byder løbet på en god balance mellem udfordring\, tempo og oplevelsen omkring eventet.
LOCATION:Copenhagen\, Capital Region
URL:https://sportplan.vercel.app/en/events/copenhagen-marathon-2026-copenhagen-2026-05-17
END:VEVENT
END:VCALENDAR
